{
 "currentVersion": 10.71,
 "serviceDescription": "The National Agriculture Imagery Program (NAIP) acquires aerial imagery during the agricultural growing seasons in the continental United States. This service contains NAIP imagery from 2005 in the Maryland State Plane Meters projection.",
 "mapName": "Layers",
 "description": "",
 "copyrightText": "MD iMAP, USDA",
 "supportsDynamicLayers": true,
 "layers": [
  {
   "id": 0,
   "name": "NAIP 2005",
   "parentLayerId": -1,
   "defaultVisibility": true,
   "subLayerIds": null,
   "minScale": 0,
   "maxScale": 0,
   "type": "Feature Layer",
   "geometryType": "esriGeometryPolygon"
  }
 ],
 "tables": [],
 "spatialReference": {
  "wkid": 26985,
  "latestWkid": 26985
 },
 "singleFusedMapCache": true,
 "tileInfo": {
  "rows": 512,
  "cols": 512,
  "dpi": 96,
  "format": "JPEG",
  "compressionQuality": 90,
  "origin": {
   "x": -36747100,
   "y": 45202700
  },
  "spatialReference": {
   "wkid": 26985,
   "latestWkid": 26985
  },
  "lods": [
   {
    "level": 0,
    "resolution": 610.8116874192093,
    "scale": 2308574.98883465
   },
   {
    "level": 1,
    "resolution": 305.40584370960335,
    "scale": 1154287.49441732
   },
   {
    "level": 2,
    "resolution": 152.7029218548022,
    "scale": 577143.747208662
   },
   {
    "level": 3,
    "resolution": 76.3514609274011,
    "scale": 288571.873604331
   },
   {
    "level": 4,
    "resolution": 38.17573046370042,
    "scale": 144285.936802165
   },
   {
    "level": 5,
    "resolution": 19.087865231850262,
    "scale": 72142.9684010827
   },
   {
    "level": 6,
    "resolution": 9.543932615925145,
    "scale": 36071.4842005414
   },
   {
    "level": 7,
    "resolution": 4.771966307962573,
    "scale": 18035.7421002707
   },
   {
    "level": 8,
    "resolution": 2.3859831539812832,
    "scale": 9017.87105013534
   },
   {
    "level": 9,
    "resolution": 1.1929915769906416,
    "scale": 4508.93552506767
   }
  ]
 },
 "initialExtent": {
  "xmin": 101494.18220596435,
  "ymin": 86104.25491906432,
  "xmax": 654086.8822059646,
  "ymax": 331644.525480242,
  "spatialReference": {
   "wkid": 26985,
   "latestWkid": 26985
  }
 },
 "fullExtent": {
  "xmin": 185218.00429999828,
  "ymin": 25772.37440000102,
  "xmax": 570274.5499000028,
  "ymax": 230947.83779999986,
  "spatialReference": {
   "wkid": 26985,
   "latestWkid": 26985
  }
 },
 "minScale": 2308574.98883465,
 "maxScale": 4508.93552506767,
 "units": "esriMeters",
 "supportedImageFormatTypes": "PNG32,PNG24,PNG,JPG,DIB,TIFF,EMF,PS,PDF,GIF,SVG,SVGZ,BMP",
 "documentInfo": {
  "Title": "",
  "Author": "",
  "Comments": "The National Agriculture Imagery Program (NAIP) acquires aerial imagery during the agricultural growing seasons in the continental United States. This service contains NAIP imagery from 2006 in the Web Mercator projection. **Please note: Not all areas of Maryland was collected in this flight** ",
  "Subject": "Cached Map Service of 2006 Maryland NAIP Imagery",
  "Category": "",
  "AntialiasingMode": "None",
  "TextAntialiasingMode": "Force",
  "Keywords": "MD iMAP,Maryland,NAIP,Imagery,USDA,Cached,Agriculture,MD,WMS,KML,Raster"
 },
 "capabilities": "Map,Query,Data",
 "supportedQueryFormats": "JSON, geoJSON",
 "exportTilesAllowed": false,
 "supportsDatumTransformation": true,
 "maxRecordCount": 1000,
 "maxImageHeight": 4096,
 "maxImageWidth": 4096,
 "supportedExtensions": "KmlServer, WMSServer"
}
