{
 "currentVersion": 10.71,
 "serviceDescription": "Aerial Imagery from October 6, 2015 for Hurricane Joaquin. Flown and collected by NOAA and USGS. Full imagery collections for Hurricane Joaquin can be found through http://storms.ngs.noaa.gov/storms/oblique/index.html",
 "mapName": "Layers",
 "description": "",
 "copyrightText": "MD iMAP, NOAA, USGS",
 "supportsDynamicLayers": true,
 "layers": [
  {
   "id": 0,
   "name": "Hurricane Joaquin Aerial",
   "parentLayerId": -1,
   "defaultVisibility": true,
   "subLayerIds": null,
   "minScale": 0,
   "maxScale": 0,
   "type": "Feature Layer",
   "geometryType": "esriGeometryPolygon"
  }
 ],
 "tables": [],
 "spatialReference": {
  "wkid": 102100,
  "latestWkid": 3857
 },
 "singleFusedMapCache": true,
 "tileInfo": {
  "rows": 512,
  "cols": 512,
  "dpi": 96,
  "format": "MIXED",
  "compressionQuality": 75,
  "origin": {
   "x": -2.0037508342787E7,
   "y": 2.0037508342787E7
  },
  "spatialReference": {
   "wkid": 102100,
   "latestWkid": 3857
  },
  "lods": [
   {
    "level": 0,
    "resolution": 2445.98490512499,
    "scale": 9244648.868618
   },
   {
    "level": 1,
    "resolution": 1222.992452562495,
    "scale": 4622324.434309
   },
   {
    "level": 2,
    "resolution": 611.4962262813797,
    "scale": 2311162.217155
   },
   {
    "level": 3,
    "resolution": 305.74811314055756,
    "scale": 1155581.108577
   },
   {
    "level": 4,
    "resolution": 152.87405657041106,
    "scale": 577790.554289
   },
   {
    "level": 5,
    "resolution": 76.43702828507324,
    "scale": 288895.277144
   },
   {
    "level": 6,
    "resolution": 38.21851414253662,
    "scale": 144447.638572
   },
   {
    "level": 7,
    "resolution": 19.10925707126831,
    "scale": 72223.819286
   },
   {
    "level": 8,
    "resolution": 9.554628535634155,
    "scale": 36111.909643
   },
   {
    "level": 9,
    "resolution": 4.77731426794937,
    "scale": 18055.954822
   },
   {
    "level": 10,
    "resolution": 2.388657133974685,
    "scale": 9027.977411
   },
   {
    "level": 11,
    "resolution": 1.1943285668550503,
    "scale": 4513.988705
   },
   {
    "level": 12,
    "resolution": 0.5971642835598172,
    "scale": 2256.994353
   },
   {
    "level": 13,
    "resolution": 0.29858214164761665,
    "scale": 1128.497176
   },
   {
    "level": 14,
    "resolution": 0.14929107082380833,
    "scale": 564.248588
   }
  ]
 },
 "initialExtent": {
  "xmin": -8392589.070571115,
  "ymin": 4605233.8540480975,
  "xmax": -8319613.004794624,
  "ymax": 4636640.444800066,
  "spatialReference": {
   "wkid": 102100,
   "latestWkid": 3857
  }
 },
 "fullExtent": {
  "xmin": -8848486.7665,
  "ymin": 4564405.0145,
  "xmax": -8354439.2528,
  "ymax": 4825754.7727,
  "spatialReference": {
   "wkid": 102100,
   "latestWkid": 3857
  }
 },
 "minScale": 9244648.868618,
 "maxScale": 564.248588,
 "units": "esriMeters",
 "supportedImageFormatTypes": "PNG32,PNG24,PNG,JPG,DIB,TIFF,EMF,PS,PDF,GIF,SVG,SVGZ,BMP",
 "documentInfo": {
  "Title": "",
  "Author": "",
  "Comments": "Aerial Imagery from October 6, 2015 for Hurricane Joaquin. Flown and collected by NOAA and USGS. Full imagery collections for Hurricane Joaquin can be found through http://storms.ngs.noaa.gov/storms/oblique/index.html",
  "Subject": "Imagery from October 6, 2015 for Hurricane Joaquin (Aerial only)",
  "Category": "",
  "AntialiasingMode": "None",
  "TextAntialiasingMode": "Force",
  "Keywords": "MD,Maryland,MD iMAP,Hurricane,Storm,Joaquin,Imagery,Aerial,NOAA,USGS,WMS,Cache"
 },
 "capabilities": "Data,Map,Query",
 "supportedQueryFormats": "JSON, geoJSON",
 "exportTilesAllowed": false,
 "supportsDatumTransformation": true,
 "maxRecordCount": 1000,
 "maxImageHeight": 4096,
 "maxImageWidth": 4096,
 "supportedExtensions": "KmlServer, WMSServer"
}
