View In:
ArcGIS JavaScript
ArcGIS Online Map Viewer
ArcGIS Earth
ArcMap
View Footprint In:
ArcGIS Online Map Viewer
Service Description: This image service provides Pre-Event imagery flown in 2016 (2/2/16). The imagery is not specific to any prior event. The imagery is in response to Integrated Ocean and Coastal Mapping requirements. The aerial photography missions were conducted by NOAA’s National Geodetic Survey, Remote Sensing Division. Images were acquired from various altitudes ranging from 3,500 to 7,500 feet, using a Trimble Digital Sensor System (DSS) at a 37.5 degree look angle.
Name: Storm/PreEvent2016
Description: This image service provides Pre-Event imagery flown in 2016 (2/2/16). The imagery is not specific to any prior event. The imagery is in response to Integrated Ocean and Coastal Mapping requirements. The aerial photography missions were conducted by NOAA’s National Geodetic Survey, Remote Sensing Division. Images were acquired from various altitudes ranging from 3,500 to 7,500 feet, using a Trimble Digital Sensor System (DSS) at a 37.5 degree look angle.
Single Fused Map Cache: false
Extent:
XMin: -8378993.2820999995
YMin: 4580728.617364416
XMax: -8353797.8042977555
YMax: 4644943.769100003
Spatial Reference: 102100
(3857)
Initial Extent:
XMin: -8378993.2820999995
YMin: 4580728.617364416
XMax: -8353797.8042977555
YMax: 4644943.769100003
Spatial Reference: 102100
(3857)
Full Extent:
XMin: -8378993.2820999995
YMin: 4580728.617364416
XMax: -8353797.8042977555
YMax: 4644943.769100003
Spatial Reference: 102100
(3857)
Pixel Size X: 0.24642500100000014
Pixel Size Y: 0.24642500100000017
Band Count: 3
Pixel Type: U8
RasterFunction Infos: {"rasterFunctionInfos": [{
"name": "None",
"description": "A No-Op Function.",
"help": ""
}]}
Mensuration Capabilities: None
Has Histograms: true
Has Colormap: false
Has Multi Dimensions : false
Rendering Rule:
Min Scale: 0
Max Scale: 0
Copyright Text: MD iMAP, NOAA, NOA, NGS
Service Data Type: esriImageServiceDataTypeRGB
Min Values: 0, 0, 0
Max Values: 255, 254, 248
Mean Values: 58.48417849649658, 57.951793185526995, 48.03543427849274
Standard Deviation Values: 44.35880058646599, 38.829574479753525, 36.997524379488496
Object ID Field: OBJECTID
Fields:
-
OBJECTID
(
type: esriFieldTypeOID, alias: OBJECTID
)
-
Name
(
type: esriFieldTypeString, alias: Name, length: 200
)
-
MinPS
(
type: esriFieldTypeDouble, alias: MinPS
)
-
MaxPS
(
type: esriFieldTypeDouble, alias: MaxPS
)
-
LowPS
(
type: esriFieldTypeDouble, alias: LowPS
)
-
HighPS
(
type: esriFieldTypeDouble, alias: HighPS
)
-
Category
(
type: esriFieldTypeInteger, alias: Category
, Coded Values:
[0: Unknown]
, [1: Primary]
, [2: Overview]
, ...6 more...
)
-
Tag
(
type: esriFieldTypeString, alias: Tag, length: 100
)
-
GroupName
(
type: esriFieldTypeString, alias: GroupName, length: 100
)
-
ProductName
(
type: esriFieldTypeString, alias: ProductName, length: 100
)
-
CenterX
(
type: esriFieldTypeDouble, alias: CenterX
)
-
CenterY
(
type: esriFieldTypeDouble, alias: CenterY
)
-
ZOrder
(
type: esriFieldTypeInteger, alias: ZOrder
)
-
Shape
(
type: esriFieldTypeGeometry, alias: Shape
)
-
Shape.STArea()
(
type: esriFieldTypeDouble, alias: Shape.STArea()
)
-
Shape.STLength()
(
type: esriFieldTypeDouble, alias: Shape.STLength()
)
Default Mosaic Method: Northwest
Allowed Mosaic Methods: NorthWest,Center,LockRaster,ByAttribute,Nadir,Viewpoint,Seamline,None
SortField:
SortValue: null
Mosaic Operator: Last
Default Compression Quality: 75
Default Resampling Method: Bilinear
Max Record Count: 1000
Max Image Height: 4100
Max Image Width: 15000
Max Download Image Count: 20
Max Mosaic Image Count: 71
Allow Raster Function: true
Allow Compute TiePoints: false
Supports Statistics: true
Supports Advanced Queries: true
Use StandardizedQueries: true
Raster Type Infos:
Name: Raster Dataset
Description: Supports all ArcGIS Raster Datasets
Help:
Has Raster Attribute Table: false
Edit Fields Info: null
Ownership Based AccessControl For Rasters: null
Child Resources:
Info
Histograms
Key Properties
Legend
MultiDimensionalInfo
rasterFunctionInfos
Supported Operations:
Export Image
Query
Identify
Compute Histograms
Compute Statistics Histograms
Get Samples
Compute Class Statistics
Query Boundary
Compute Pixel Location