View In:
ArcGIS JavaScript
ArcGIS Online Map Viewer
ArcGIS Earth
ArcMap
View Footprint In:
ArcGIS Online Map Viewer
Service Description: The color infrared (CIR) digital orthophotoquad (DOQ), as originally produced, is a 1-meter (1:12,000) ground resolution of a DOQQ - 3.75-minutes of latitude by 3.75-minutes of longitude extent plus the overedge which ranges from a minimum of 50 meters to a maximum of 300 meters.
Name: DOQs/ColorInfraredDOQs
Description: The color infrared (CIR) digital orthophotoquad (DOQ), as originally produced, is a 1-meter (1:12,000) ground resolution of a DOQQ - 3.75-minutes of latitude by 3.75-minutes of longitude extent plus the overedge which ranges from a minimum of 50 meters to a maximum of 300 meters.
Single Fused Map Cache: false
Extent:
XMin: -8852663.9822
YMin: 4558385.798070684
XMax: -8349622.951315433
YMax: 4834014.9636999965
Spatial Reference: 102100
(3857)
Initial Extent:
XMin: -8852663.9822
YMin: 4558385.798070684
XMax: -8349622.951315433
YMax: 4834014.9636999965
Spatial Reference: 102100
(3857)
Full Extent:
XMin: -8852663.9822
YMin: 4558385.798070684
XMax: -8349622.951315433
YMax: 4834014.9636999965
Spatial Reference: 102100
(3857)
Pixel Size X: 1.219425415999999
Pixel Size Y: 1.2194254160000018
Band Count: 3
Pixel Type: U8
RasterFunction Infos: {"rasterFunctionInfos": [{
"name": "None",
"description": "A No-Op Function.",
"help": ""
}]}
Mensuration Capabilities: None
Has Histograms: true
Has Colormap: false
Has Multi Dimensions : false
Rendering Rule:
Min Scale: 0
Max Scale: 0
Copyright Text: MD iMAP
Service Data Type: esriImageServiceDataTypeRGB
Min Values: 0, 0, 0
Max Values: 255, 255, 255
Mean Values: 100.46735907225943, 105.2599437318325, 104.11976100733834
Standard Deviation Values: 53.20902581587996, 46.03931855905529, 46.410309169556506
Object ID Field: OBJECTID
Fields:
-
OBJECTID
(
type: esriFieldTypeOID, alias: OBJECTID
)
-
Name
(
type: esriFieldTypeString, alias: Name, length: 200
)
-
MinPS
(
type: esriFieldTypeDouble, alias: MinPS
)
-
MaxPS
(
type: esriFieldTypeDouble, alias: MaxPS
)
-
LowPS
(
type: esriFieldTypeDouble, alias: LowPS
)
-
HighPS
(
type: esriFieldTypeDouble, alias: HighPS
)
-
Category
(
type: esriFieldTypeInteger, alias: Category
,
Coded Values:
[0: Unknown]
,
[1: Primary]
,
[2: Overview]
, ...6 more...
)
-
Tag
(
type: esriFieldTypeString, alias: Tag, length: 100
)
-
GroupName
(
type: esriFieldTypeString, alias: GroupName, length: 100
)
-
ProductName
(
type: esriFieldTypeString, alias: ProductName, length: 100
)
-
CenterX
(
type: esriFieldTypeDouble, alias: CenterX
)
-
CenterY
(
type: esriFieldTypeDouble, alias: CenterY
)
-
ZOrder
(
type: esriFieldTypeInteger, alias: ZOrder
)
-
Shape
(
type: esriFieldTypeGeometry, alias: Shape
)
-
Shape.STArea()
(
type: esriFieldTypeDouble, alias: Shape.STArea()
)
-
Shape.STLength()
(
type: esriFieldTypeDouble, alias: Shape.STLength()
)
Default Mosaic Method: Northwest
Allowed Mosaic Methods: NorthWest,Center,LockRaster,ByAttribute,Nadir,Viewpoint,Seamline,None
SortField:
SortValue: null
Mosaic Operator: First
Default Compression Quality: 75
Default Resampling Method: Bilinear
Max Record Count: 1000
Max Image Height: 4100
Max Image Width: 15000
Max Download Image Count: 20
Max Mosaic Image Count: 20
Allow Raster Function: true
Allow Compute TiePoints: false
Supports Statistics: true
Supports Advanced Queries: true
Use StandardizedQueries: true
Raster Type Infos:
Name: Raster Dataset
Description: Supports all ArcGIS Raster Datasets
Help:
Has Raster Attribute Table: false
Edit Fields Info: null
Ownership Based AccessControl For Rasters: null
Child Resources:
Info
Histograms
Key Properties
Legend
MultiDimensionalInfo
rasterFunctionInfos
Supported Operations:
Export Image
Query
Identify
Compute Histograms
Compute Statistics Histograms
Get Samples
Compute Class Statistics
Query Boundary
Compute Pixel Location