View In:
ArcGIS JavaScript
ArcGIS Online Map Viewer
ArcGIS Earth
ArcMap
ArcGIS Pro
View Footprint In:
ArcGIS Online Map Viewer
Service Description: The National Agriculture Imagery Program (NAIP) acquires aerial imagery during the agricultural growing seasons in the continental United States. This service contains NAIP imagery from 2005 in the Maryland State Plane Meters projection.
Map Name: Layers
Legend
All Layers and Tables
Dynamic Legend
Dynamic All Layers
Layers:
Description:
Copyright Text: MD iMAP, USDA
Spatial Reference:
26985
(26985)
Single Fused Map Cache: true
Tile Info:
- Height: 512
- Width: 512
- DPI: 96
-
Levels of Detail: 10
-
Level ID: 0
[ Start Tile, End Tile ]
- Resolution: 610.8116874192093
- Scale: 2308574.98883465
-
Level ID: 1
[ Start Tile, End Tile ]
- Resolution: 305.40584370960335
- Scale: 1154287.49441732
-
Level ID: 2
[ Start Tile, End Tile ]
- Resolution: 152.7029218548022
- Scale: 577143.747208662
-
Level ID: 4
[ Start Tile, End Tile ]
- Resolution: 38.17573046370042
- Scale: 144285.936802165
-
Level ID: 5
[ Start Tile, End Tile ]
- Resolution: 19.087865231850262
- Scale: 72142.9684010827
-
Level ID: 6
[ Start Tile, End Tile ]
- Resolution: 9.543932615925145
- Scale: 36071.4842005414
-
Level ID: 7
[ Start Tile, End Tile ]
- Resolution: 4.771966307962573
- Scale: 18035.7421002707
-
Level ID: 8
[ Start Tile, End Tile ]
- Resolution: 2.3859831539812832
- Scale: 9017.87105013534
-
Level ID: 9
[ Start Tile, End Tile ]
- Resolution: 1.1929915769906416
- Scale: 4508.93552506767
- Format: JPEG
- Compression Quality: 90.0
- Origin: X: -3.67471E7
Y: 4.52027E7
- Spatial Reference: 26985
(26985)
Initial Extent:
XMin: 101494.18220596435
YMin: 86104.25491906432
XMax: 654086.8822059646
YMax: 331644.525480242
Spatial Reference: 26985
(26985)
Full Extent:
XMin: 185218.00429999828
YMin: 25772.37440000102
XMax: 570274.5499000028
YMax: 230947.83779999986
Spatial Reference: 26985
(26985)
Units: esriMeters
Supported Image Format Types: PNG32,PNG24,PNG,JPG,DIB,TIFF,EMF,PS,PDF,GIF,SVG,SVGZ,BMP
Document Info:
Title:
Author:
Comments: The National Agriculture Imagery Program (NAIP) acquires aerial imagery during the agricultural growing seasons in the continental United States. This service contains NAIP imagery from 2006 in the Web Mercator projection. **Please note: Not all areas of Maryland was collected in this flight**
Subject: Cached Map Service of 2006 Maryland NAIP Imagery
Category:
Keywords: MD iMAP,Maryland,NAIP,Imagery,USDA,Cached,Agriculture,MD,WMS,KML,Raster
AntialiasingMode: None
TextAntialiasingMode: Force
Supports Dynamic Layers: true
MaxRecordCount: 1000
MaxImageHeight: 4096
MaxImageWidth: 4096
Supported Query Formats: JSON, geoJSON
Min Scale: 2308574.98883465
Max Scale: 4508.93552506767
Supports Datum Transformation: true
Child Resources:
Info
Dynamic Layer
Supported Operations:
Export Map
Identify
QueryDomains
QueryLegends
Find
Return Updates
Generate KML