View In:
ArcGIS JavaScript
ArcGIS Online Map Viewer
ArcGIS Earth
ArcMap
View Footprint In:
ArcGIS Online Map Viewer
Service Description: This imagery was acquired (on October 31st, 2012) by the NOAA Remote Sensing Division to support NOAA national security and emergency response requirements. This rapid response product was generated for use by emergency managers for visual analysis of damage in the area. It is not intended for mapping, charting or navigation. In addition, it will be used for ongoing research efforts for testing and developing standards for airborne digital imagery.
Name: Storm/HurricaneSandy
Description: This imagery was acquired (on October 31st, 2012) by the NOAA Remote Sensing Division to support NOAA national security and emergency response requirements. This rapid response product was generated for use by emergency managers for visual analysis of damage in the area. It is not intended for mapping, charting or navigation. In addition, it will be used for ongoing research efforts for testing and developing standards for airborne digital imagery.
Single Fused Map Cache: false
Extent:
XMin: -8399066.9196
YMin: 4582944.780286978
XMax: -8354516.869114255
YMax: 4657431.697499998
Spatial Reference: 102100
(3857)
Initial Extent:
XMin: -8399066.9196
YMin: 4582944.780286978
XMax: -8354516.869114255
YMax: 4657431.697499998
Spatial Reference: 102100
(3857)
Full Extent:
XMin: -8399066.9196
YMin: 4582944.780286978
XMax: -8354516.869114255
YMax: 4657431.697499998
Spatial Reference: 102100
(3857)
Pixel Size X: 0.34999961100000004
Pixel Size Y: 0.3499996109999996
Band Count: 3
Pixel Type: U8
RasterFunction Infos: {"rasterFunctionInfos": [{
"name": "None",
"description": "A No-Op Function.",
"help": ""
}]}
Mensuration Capabilities: None
Has Histograms: true
Has Colormap: false
Has Multi Dimensions : false
Rendering Rule:
Min Scale: 0
Max Scale: 0
Copyright Text: MD iMAP, NOAA
Service Data Type: esriImageServiceDataTypeRGB
Min Values: 0, 0, 0
Max Values: 251, 255, 252
Mean Values: 41.23858140319658, 44.25833412644167, 43.39468242500875
Standard Deviation Values: 43.03069983216131, 44.44428381791298, 43.10634744316699
Object ID Field: OBJECTID
Fields:
-
OBJECTID
(
type: esriFieldTypeOID, alias: OBJECTID
)
-
Name
(
type: esriFieldTypeString, alias: Name, length: 200
)
-
MinPS
(
type: esriFieldTypeDouble, alias: MinPS
)
-
MaxPS
(
type: esriFieldTypeDouble, alias: MaxPS
)
-
LowPS
(
type: esriFieldTypeDouble, alias: LowPS
)
-
HighPS
(
type: esriFieldTypeDouble, alias: HighPS
)
-
Category
(
type: esriFieldTypeInteger, alias: Category
, Coded Values:
[0: Unknown]
, [1: Primary]
, [2: Overview]
, ...6 more...
)
-
Tag
(
type: esriFieldTypeString, alias: Tag, length: 100
)
-
GroupName
(
type: esriFieldTypeString, alias: GroupName, length: 100
)
-
ProductName
(
type: esriFieldTypeString, alias: ProductName, length: 100
)
-
CenterX
(
type: esriFieldTypeDouble, alias: CenterX
)
-
CenterY
(
type: esriFieldTypeDouble, alias: CenterY
)
-
ZOrder
(
type: esriFieldTypeInteger, alias: ZOrder
)
-
Shape
(
type: esriFieldTypeGeometry, alias: Shape
)
-
Shape.STArea()
(
type: esriFieldTypeDouble, alias: Shape.STArea()
)
-
Shape.STLength()
(
type: esriFieldTypeDouble, alias: Shape.STLength()
)
Default Mosaic Method: Northwest
Allowed Mosaic Methods: NorthWest,Center,LockRaster,ByAttribute,Nadir,Viewpoint,Seamline,None
SortField:
SortValue: null
Mosaic Operator: First
Default Compression Quality: 75
Default Resampling Method: Bilinear
Max Record Count: 1000
Max Image Height: 4100
Max Image Width: 15000
Max Download Image Count: 20
Max Mosaic Image Count: 20
Allow Raster Function: true
Allow Compute TiePoints: false
Supports Statistics: true
Supports Advanced Queries: true
Use StandardizedQueries: true
Raster Type Infos:
Name: Raster Dataset
Description: Supports all ArcGIS Raster Datasets
Help:
Has Raster Attribute Table: false
Edit Fields Info: null
Ownership Based AccessControl For Rasters: null
Child Resources:
Info
Histograms
Key Properties
Legend
MultiDimensionalInfo
rasterFunctionInfos
Supported Operations:
Export Image
Query
Identify
Compute Histograms
Compute Statistics Histograms
Get Samples
Compute Class Statistics
Query Boundary
Compute Pixel Location